BEGIN:VCALENDAR
VERSION:2.0
PRODID:-//oostburglibrary.org//NONSGML kigkonsult.se iCalcreator 2.30.10//
CALSCALE:GREGORIAN
METHOD:PUBLISH
UID:1fb4c809-1675-4540-99ed-c15e69ca5bdd
X-WR-CALDESC:
X-WR-RELCALID:546c53424e41e0db55df3e5fd4e5e8a2
X-WR-TIMEZONE:America/Chicago
BEGIN:VTIMEZONE
TZID:America/Chicago
BEGIN:STANDARD
TZNAME:CST
DTSTART:20241103T020000
TZOFFSETFROM:-0500
TZOFFSETTO:-0600
RDATE:20251102T020000
RDATE:20261101T020000
END:STANDARD
BEGIN:DAYLIGHT
TZNAME:CDT
DTSTART:20250309T020000
TZOFFSETFROM:-0600
TZOFFSETTO:-0500
RDATE:20260308T020000
END:DAYLIGHT
END:VTIMEZONE
BEGIN:VEVENT
UID:c1b90383-dd23-4b1a-beec-e9f295b3244d
DTSTAMP:20260421T200654Z
DESCRIPTION:
DTSTART;TZID=America/Chicago:20250609T180000
DTEND;TZID=America/Chicago:20250609T190000
LOCATION:In the Community Room
SUMMARY:Friends of the Library Board Meeting
END:VEVENT
END:VCALENDAR
