BEGIN:VCALENDAR
VERSION:2.0
PRODID:-//oostburglibrary.org//NONSGML kigkonsult.se iCalcreator 2.30.10//
CALSCALE:GREGORIAN
METHOD:PUBLISH
UID:517dc4ea-94ad-4748-9a7a-f68914f06540
X-WR-CALDESC:Explore fun\, skill-building activities like cooking\, crafts\
 , and more! Each session offers a variety of hands-on experiences based in
  STEAM.  You do not have to be a member of 4-H to join in on the fun! Regi
 stration Required\, 11:00 am program intended for incoming 5th graders and
  middle schoolers.
X-WR-RELCALID:9727692a3edef39bf90dcd4f8aa5be6b
X-WR-TIMEZONE:America/Chicago
BEGIN:VTIMEZONE
TZID:America/Chicago
BEGIN:STANDARD
TZNAME:CST
DTSTART:20241103T020000
TZOFFSETFROM:-0500
TZOFFSETTO:-0600
RDATE:20251102T020000
RDATE:20261101T020000
END:STANDARD
BEGIN:DAYLIGHT
TZNAME:CDT
DTSTART:20250309T020000
TZOFFSETFROM:-0600
TZOFFSETTO:-0500
RDATE:20260308T020000
END:DAYLIGHT
END:VTIMEZONE
BEGIN:VEVENT
UID:13da0073-594e-403e-aa41-13c4d63ce38d
DTSTAMP:20260421T195624Z
DESCRIPTION:Explore fun\, skill-building activities like cooking\, crafts\,
  and more! Each session offers a variety of hands-on experiences based in 
 STEAM.  You do not have to be a member of 4-H to join in on the fun! Regis
 tration Required\, 11:00 am program intended for incoming 5th graders and 
 middle schoolers.
DTSTART;TZID=America/Chicago:20250617T110000
DTEND;TZID=America/Chicago:20250617T120000
LOCATION:
SUMMARY:STEAM-Powered Fun with 4H
END:VEVENT
END:VCALENDAR
