BEGIN:VCALENDAR
VERSION:2.0
PRODID:-//oostburglibrary.org//NONSGML kigkonsult.se iCalcreator 2.30.10//
CALSCALE:GREGORIAN
METHOD:PUBLISH
UID:9cc1d434-a7dd-4c35-bcad-adb94df025ae
X-WR-CALDESC:Join travel writer Lori Helke at the Oostburg Public Library t
 o discuss her new book 100 Things to Do in Sheboygan Before You Die and to
  get some inspiration for your staycation!
X-WR-RELCALID:1df6039886dda17e8fb91c3096faaaa7
X-WR-TIMEZONE:America/Chicago
BEGIN:VTIMEZONE
TZID:America/Chicago
BEGIN:STANDARD
TZNAME:CST
DTSTART:20241103T020000
TZOFFSETFROM:-0500
TZOFFSETTO:-0600
RDATE:20251102T020000
RDATE:20261101T020000
END:STANDARD
BEGIN:DAYLIGHT
TZNAME:CDT
DTSTART:20250309T020000
TZOFFSETFROM:-0600
TZOFFSETTO:-0500
RDATE:20260308T020000
END:DAYLIGHT
END:VTIMEZONE
BEGIN:VEVENT
UID:6666c344-2334-4078-8d33-a327f0d92005
DTSTAMP:20260421T200524Z
DESCRIPTION:Join travel writer Lori Helke at the Oostburg Public Library to
  discuss her new book 100 Things to Do in Sheboygan Before You Die and to 
 get some inspiration for your staycation!
DTSTART;TZID=America/Chicago:20250617T180000
DTEND;TZID=America/Chicago:20250617T190000
LOCATION:
SUMMARY:Summer Writers Series: Lori Helke
END:VEVENT
END:VCALENDAR
