BEGIN:VCALENDAR
VERSION:2.0
PRODID:-//oostburglibrary.org//NONSGML kigkonsult.se iCalcreator 2.30.10//
CALSCALE:GREGORIAN
METHOD:PUBLISH
UID:d8ff20b3-554b-44fe-8413-8aa7b1d91674
X-WR-CALDESC:Join Mrs. Lori for stories\, songs\, and crafts at our Prescho
 ol Story Time! \n\nThis week's theme: Color Our World With Crayons
X-WR-RELCALID:47ed4be338d112e17370ac3cca89111a
X-WR-TIMEZONE:America/Chicago
BEGIN:VTIMEZONE
TZID:America/Chicago
BEGIN:STANDARD
TZNAME:CST
DTSTART:20241103T020000
TZOFFSETFROM:-0500
TZOFFSETTO:-0600
RDATE:20251102T020000
RDATE:20261101T020000
END:STANDARD
BEGIN:DAYLIGHT
TZNAME:CDT
DTSTART:20250309T020000
TZOFFSETFROM:-0600
TZOFFSETTO:-0500
RDATE:20260308T020000
END:DAYLIGHT
END:VTIMEZONE
BEGIN:VEVENT
UID:4fd84895-6a47-438e-84c7-d4498a33a03c
DTSTAMP:20260421T200357Z
DESCRIPTION:Join Mrs. Lori for stories\, songs\, and crafts at our Preschoo
 l Story Time! \n\nThis week's theme: Color Our World With Crayons
DTSTART;TZID=America/Chicago:20250618T100000
DTEND;TZID=America/Chicago:20250618T110000
LOCATION:
SUMMARY:Story Time
END:VEVENT
END:VCALENDAR
