BEGIN:VCALENDAR
VERSION:2.0
PRODID:-//oostburglibrary.org//NONSGML kigkonsult.se iCalcreator 2.30.10//
CALSCALE:GREGORIAN
METHOD:PUBLISH
UID:64ea65dc-7c05-406e-876b-6e09624f59d1
X-WR-CALDESC:Twist some balloons with our friends at Mischief and Magic!
X-WR-RELCALID:6c5d917582535cf3758c3a2dc358e02d
X-WR-TIMEZONE:America/Chicago
BEGIN:VTIMEZONE
TZID:America/Chicago
BEGIN:STANDARD
TZNAME:CST
DTSTART:20241103T020000
TZOFFSETFROM:-0500
TZOFFSETTO:-0600
RDATE:20251102T020000
RDATE:20261101T020000
END:STANDARD
BEGIN:DAYLIGHT
TZNAME:CDT
DTSTART:20250309T020000
TZOFFSETFROM:-0600
TZOFFSETTO:-0500
RDATE:20260308T020000
END:DAYLIGHT
END:VTIMEZONE
BEGIN:VEVENT
UID:376c1d86-8abb-4202-a3df-361e19e6af03
DTSTAMP:20260421T200245Z
DESCRIPTION:Twist some balloons with our friends at Mischief and Magic!
DTSTART;TZID=America/Chicago:20250618T130000
DTEND;TZID=America/Chicago:20250618T140000
LOCATION:
SUMMARY:SRP Elementary Readers: Loony Balloonies with Mischief and Magic
END:VEVENT
END:VCALENDAR
