BEGIN:VCALENDAR
VERSION:2.0
PRODID:-//oostburglibrary.org//NONSGML kigkonsult.se iCalcreator 2.30.10//
CALSCALE:GREGORIAN
METHOD:PUBLISH
UID:fa2e0392-7516-409f-8e79-abd652753e3e
X-WR-CALDESC:Learn to make Balloon Animals with our friends from Magic and 
 Mischief! Registration Required.
X-WR-RELCALID:34ea19ae87246a9d6f808e8d6c399cb0
X-WR-TIMEZONE:America/Chicago
BEGIN:VTIMEZONE
TZID:America/Chicago
BEGIN:STANDARD
TZNAME:CST
DTSTART:20241103T020000
TZOFFSETFROM:-0500
TZOFFSETTO:-0600
RDATE:20251102T020000
RDATE:20261101T020000
END:STANDARD
BEGIN:DAYLIGHT
TZNAME:CDT
DTSTART:20250309T020000
TZOFFSETFROM:-0600
TZOFFSETTO:-0500
RDATE:20260308T020000
END:DAYLIGHT
END:VTIMEZONE
BEGIN:VEVENT
UID:c2476168-36f8-45d1-a336-b373bd253244
DTSTAMP:20260421T195926Z
DESCRIPTION:Learn to make Balloon Animals with our friends from Magic and M
 ischief! Registration Required.
DTSTART;TZID=America/Chicago:20250618T143000
DTEND;TZID=America/Chicago:20250618T153000
LOCATION:
SUMMARY:SRP Teens: Ballooniversity Workshop
END:VEVENT
END:VCALENDAR
