BEGIN:VCALENDAR
VERSION:2.0
PRODID:-//oostburglibrary.org//NONSGML kigkonsult.se iCalcreator 2.30.10//
CALSCALE:GREGORIAN
METHOD:PUBLISH
UID:479d6a36-cad3-4b13-a044-ca7c483123a5
X-WR-CALDESC:Explore fun\, skill-building activities like cooking\, crafts\
 , and more! Each session offers a variety of hands-on experiences based in
  STEAM.  You do not have to be a member of 4-H to join in on the fun! Regi
 stration required\, 10:00 am program intended for incoming 1st-4th graders
 .
X-WR-RELCALID:2ca12071a1ce43a4ab82a6159ec93e4d
X-WR-TIMEZONE:America/Chicago
BEGIN:VTIMEZONE
TZID:America/Chicago
BEGIN:STANDARD
TZNAME:CST
DTSTART:20241103T020000
TZOFFSETFROM:-0500
TZOFFSETTO:-0600
RDATE:20251102T020000
RDATE:20261101T020000
END:STANDARD
BEGIN:DAYLIGHT
TZNAME:CDT
DTSTART:20250309T020000
TZOFFSETFROM:-0600
TZOFFSETTO:-0500
RDATE:20260308T020000
END:DAYLIGHT
END:VTIMEZONE
BEGIN:VEVENT
UID:c84249f3-c473-4674-9983-a6bd0e1308c2
DTSTAMP:20260421T200848Z
DESCRIPTION:Explore fun\, skill-building activities like cooking\, crafts\,
  and more! Each session offers a variety of hands-on experiences based in 
 STEAM.  You do not have to be a member of 4-H to join in on the fun! Regis
 tration required\, 10:00 am program intended for incoming 1st-4th graders.
DTSTART;TZID=America/Chicago:20250624T100000
DTEND;TZID=America/Chicago:20250624T110000
LOCATION:
SUMMARY:STEAM-Powered Fun with 4H
END:VEVENT
END:VCALENDAR
