BEGIN:VCALENDAR
VERSION:2.0
PRODID:-//oostburglibrary.org//NONSGML kigkonsult.se iCalcreator 2.30.10//
CALSCALE:GREGORIAN
METHOD:PUBLISH
UID:4b255f41-0a06-4a77-8b1c-2ff082b14dd1
X-WR-CALDESC:The Sheboygan County Museum takes its Show & Tell program to O
 ostburg Public Library! Bring an item of personal importance and discuss i
 ts story and significance with others in attendance.
X-WR-RELCALID:637ef1557459c5baf44e91d625640dcf
X-WR-TIMEZONE:America/Chicago
BEGIN:VTIMEZONE
TZID:America/Chicago
BEGIN:STANDARD
TZNAME:CST
DTSTART:20241103T020000
TZOFFSETFROM:-0500
TZOFFSETTO:-0600
RDATE:20251102T020000
RDATE:20261101T020000
END:STANDARD
BEGIN:DAYLIGHT
TZNAME:CDT
DTSTART:20250309T020000
TZOFFSETFROM:-0600
TZOFFSETTO:-0500
RDATE:20260308T020000
END:DAYLIGHT
END:VTIMEZONE
BEGIN:VEVENT
UID:4d2800c4-5a9b-4376-b1ea-8fbe01fb331b
DTSTAMP:20260421T200929Z
DESCRIPTION:The Sheboygan County Museum takes its Show & Tell program to Oo
 stburg Public Library! Bring an item of personal importance and discuss it
 s story and significance with others in attendance.
DTSTART;TZID=America/Chicago:20250624T093000
DTEND;TZID=America/Chicago:20250624T103000
LOCATION:
SUMMARY:Show and Tell: This Object Changed Me with the Sheboygan County Mus
 eum
END:VEVENT
END:VCALENDAR
