BEGIN:VCALENDAR
VERSION:2.0
PRODID:-//oostburglibrary.org//NONSGML kigkonsult.se iCalcreator 2.30.10//
CALSCALE:GREGORIAN
METHOD:PUBLISH
UID:973cb85f-0d71-4e86-990e-3d34cc244b0f
X-WR-CALDESC:Bring the family and some folding chairs or a picnic blanket t
 o an outdoor performance of Game of Tiaras\, presented by Theater for Youn
 g Audiences! Enjoy the drama and laughter as your favorite fairy tale prin
 cesses (who are not affiliated with any sort of anthropomorphic mouse for 
 legal reasons 😉 vie for the throne in a comical retelling of Shakespeare's
  King Lear.\n\n
X-WR-RELCALID:8e43c240d32b3cdf7bf75b01f5292577
X-WR-TIMEZONE:America/Chicago
BEGIN:VTIMEZONE
TZID:America/Chicago
BEGIN:STANDARD
TZNAME:CST
DTSTART:20241103T020000
TZOFFSETFROM:-0500
TZOFFSETTO:-0600
RDATE:20251102T020000
RDATE:20261101T020000
END:STANDARD
BEGIN:DAYLIGHT
TZNAME:CDT
DTSTART:20250309T020000
TZOFFSETFROM:-0600
TZOFFSETTO:-0500
RDATE:20260308T020000
END:DAYLIGHT
END:VTIMEZONE
BEGIN:VEVENT
UID:c82985fc-a1ce-450d-924f-db79c05863ef
DTSTAMP:20260421T200513Z
DESCRIPTION:Bring the family and some folding chairs or a picnic blanket to
  an outdoor performance of Game of Tiaras\, presented by Theater for Young
  Audiences! Enjoy the drama and laughter as your favorite fairy tale princ
 esses (who are not affiliated with any sort of anthropomorphic mouse for l
 egal reasons 😉 vie for the throne in a comical retelling of Shakespeare's 
 King Lear.\n\n
DTSTART;TZID=America/Chicago:20250627T160000
DTEND;TZID=America/Chicago:20250627T170000
LOCATION:
SUMMARY:TYA Presents: Game of Tiaras
END:VEVENT
END:VCALENDAR
