BEGIN:VCALENDAR
VERSION:2.0
PRODID:-//oostburglibrary.org//NONSGML kigkonsult.se iCalcreator 2.30.10//
CALSCALE:GREGORIAN
METHOD:PUBLISH
UID:a96a4f58-9aab-428c-a8dd-fc276c8314c9
X-WR-CALDESC:Explore fun\, skill-building activities like cooking\, crafts\
 , and more! Each session offers a variety of hands-on experiences based in
  STEAM.  You do not have to be a member of 4-H to join in on the fun! Regi
 stration required\, 10:00 am program intended for incoming 1st-4th graders
 .
X-WR-RELCALID:24bf8e16f050bf2cf01ef446337d8c0d
X-WR-TIMEZONE:America/Chicago
BEGIN:VTIMEZONE
TZID:America/Chicago
BEGIN:STANDARD
TZNAME:CST
DTSTART:20241103T020000
TZOFFSETFROM:-0500
TZOFFSETTO:-0600
RDATE:20251102T020000
RDATE:20261101T020000
END:STANDARD
BEGIN:DAYLIGHT
TZNAME:CDT
DTSTART:20250309T020000
TZOFFSETFROM:-0600
TZOFFSETTO:-0500
RDATE:20260308T020000
END:DAYLIGHT
END:VTIMEZONE
BEGIN:VEVENT
UID:d4a17d3e-9ea3-433b-865c-7675240e23f1
DTSTAMP:20260421T182520Z
DESCRIPTION:Explore fun\, skill-building activities like cooking\, crafts\,
  and more! Each session offers a variety of hands-on experiences based in 
 STEAM.  You do not have to be a member of 4-H to join in on the fun! Regis
 tration required\, 10:00 am program intended for incoming 1st-4th graders.
DTSTART;TZID=America/Chicago:20250708T100000
DTEND;TZID=America/Chicago:20250708T110000
LOCATION:
SUMMARY:STEAM-Powered Fun with 4H
END:VEVENT
END:VCALENDAR
