BEGIN:VCALENDAR
VERSION:2.0
PRODID:-//oostburglibrary.org//NONSGML kigkonsult.se iCalcreator 2.30.10//
CALSCALE:GREGORIAN
METHOD:PUBLISH
UID:0a61b71c-4a7a-43e1-9a57-5f3f22f0e6dc
X-WR-CALDESC:Novelist Amy Pease will be at the Oostburg Public Library disc
 ussing her debut novel Northwoods\, her inspirations\, and her writing pro
 cess!
X-WR-RELCALID:1f5dd58f1d4ee2d37dd3869bc461b30b
X-WR-TIMEZONE:America/Chicago
BEGIN:VTIMEZONE
TZID:America/Chicago
BEGIN:STANDARD
TZNAME:CST
DTSTART:20241103T020000
TZOFFSETFROM:-0500
TZOFFSETTO:-0600
RDATE:20251102T020000
RDATE:20261101T020000
END:STANDARD
BEGIN:DAYLIGHT
TZNAME:CDT
DTSTART:20250309T020000
TZOFFSETFROM:-0600
TZOFFSETTO:-0500
RDATE:20260308T020000
END:DAYLIGHT
END:VTIMEZONE
BEGIN:VEVENT
UID:163c4708-6fac-4b53-8938-9456442354df
DTSTAMP:20260421T182656Z
DESCRIPTION:Novelist Amy Pease will be at the Oostburg Public Library discu
 ssing her debut novel Northwoods\, her inspirations\, and her writing proc
 ess!
DTSTART;TZID=America/Chicago:20250708T180000
DTEND;TZID=America/Chicago:20250708T190000
LOCATION:
SUMMARY:Summer Writers Series: Amy Pease
END:VEVENT
END:VCALENDAR
