BEGIN:VCALENDAR
VERSION:2.0
PRODID:-//oostburglibrary.org//NONSGML kigkonsult.se iCalcreator 2.30.10//
CALSCALE:GREGORIAN
METHOD:PUBLISH
UID:912a539f-270a-487f-b8b2-ab8b7a8b5b73
X-WR-CALDESC:Join Mrs. Lori for stories\, songs\, and crafts at our Prescho
 ol Story Time! \n\nThis week's theme: Color Our World With Seashells
X-WR-RELCALID:29bc44f372a341a240dad316d64811c7
X-WR-TIMEZONE:America/Chicago
BEGIN:VTIMEZONE
TZID:America/Chicago
BEGIN:STANDARD
TZNAME:CST
DTSTART:20241103T020000
TZOFFSETFROM:-0500
TZOFFSETTO:-0600
RDATE:20251102T020000
RDATE:20261101T020000
END:STANDARD
BEGIN:DAYLIGHT
TZNAME:CDT
DTSTART:20250309T020000
TZOFFSETFROM:-0600
TZOFFSETTO:-0500
RDATE:20260308T020000
END:DAYLIGHT
END:VTIMEZONE
BEGIN:VEVENT
UID:534de6cb-84a0-4a8e-a963-32536569aa10
DTSTAMP:20260421T182413Z
DESCRIPTION:Join Mrs. Lori for stories\, songs\, and crafts at our Preschoo
 l Story Time! \n\nThis week's theme: Color Our World With Seashells
DTSTART;TZID=America/Chicago:20250709T100000
DTEND;TZID=America/Chicago:20250709T110000
LOCATION:
SUMMARY:Story Time
END:VEVENT
END:VCALENDAR
