BEGIN:VCALENDAR
VERSION:2.0
PRODID:-//oostburglibrary.org//NONSGML kigkonsult.se iCalcreator 2.30.10//
CALSCALE:GREGORIAN
METHOD:PUBLISH
UID:1ec88d4e-fe5d-4f9a-a534-1213b87ac869
X-WR-CALDESC:Learn to make Balloon Animals with our friends from Magic and 
 Mischief!
X-WR-RELCALID:4887a8987371a28668769b09e16c962e
X-WR-TIMEZONE:America/Chicago
BEGIN:VTIMEZONE
TZID:America/Chicago
BEGIN:STANDARD
TZNAME:CST
DTSTART:20241103T020000
TZOFFSETFROM:-0500
TZOFFSETTO:-0600
RDATE:20251102T020000
RDATE:20261101T020000
END:STANDARD
BEGIN:DAYLIGHT
TZNAME:CDT
DTSTART:20250309T020000
TZOFFSETFROM:-0600
TZOFFSETTO:-0500
RDATE:20260308T020000
END:DAYLIGHT
END:VTIMEZONE
BEGIN:VEVENT
UID:2e59d751-2321-43d4-80ea-1de16cfa7b69
DTSTAMP:20260421T183325Z
DESCRIPTION:Learn to make Balloon Animals with our friends from Magic and M
 ischief!
DTSTART;TZID=America/Chicago:20250709T143000
DTEND;TZID=America/Chicago:20250709T153000
LOCATION:
SUMMARY:SRP Teens: Wildlife of Wisconsin Owl Workshop
END:VEVENT
END:VCALENDAR
