BEGIN:VCALENDAR
VERSION:2.0
PRODID:-//oostburglibrary.org//NONSGML kigkonsult.se iCalcreator 2.30.10//
CALSCALE:GREGORIAN
METHOD:PUBLISH
UID:ccc457fe-252b-4cb1-8fe1-e86ce5f47022
X-WR-CALDESC:A Creative Writing Camp for grades 6-8\, taught by award-winni
 ng author Baptiste Paul!\n\nIn this in-depth writing workshop\, students w
 ill explore different research elements that will challenge them to craft 
 a character-driven story. Both fiction and non-fiction require research. E
 ven when creating a character that captures your readers' attention\, ther
 e are unique behaviors and traits that make your main character interestin
 g and likable\, even though your readers might not agree with the choices 
 they made.\n\nRegistration is required\, and limited spots are available. 
 Registration forms are available at the Oostburg Public Library
X-WR-RELCALID:84117b99d93efd635fe5df528b0b7c99
X-WR-TIMEZONE:America/Chicago
BEGIN:VTIMEZONE
TZID:America/Chicago
BEGIN:STANDARD
TZNAME:CST
DTSTART:20241103T020000
TZOFFSETFROM:-0500
TZOFFSETTO:-0600
RDATE:20251102T020000
RDATE:20261101T020000
END:STANDARD
BEGIN:DAYLIGHT
TZNAME:CDT
DTSTART:20250309T020000
TZOFFSETFROM:-0600
TZOFFSETTO:-0500
RDATE:20260308T020000
END:DAYLIGHT
END:VTIMEZONE
BEGIN:VEVENT
UID:ecc1fd45-a77e-4fe7-829f-4e4f7da6c2c3
DTSTAMP:20260421T182949Z
DESCRIPTION:A Creative Writing Camp for grades 6-8\, taught by award-winnin
 g author Baptiste Paul!\n\nIn this in-depth writing workshop\, students wi
 ll explore different research elements that will challenge them to craft a
  character-driven story. Both fiction and non-fiction require research. Ev
 en when creating a character that captures your readers' attention\, there
  are unique behaviors and traits that make your main character interesting
  and likable\, even though your readers might not agree with the choices t
 hey made.\n\nRegistration is required\, and limited spots are available. R
 egistration forms are available at the Oostburg Public Library
DTSTART;TZID=America/Chicago:20250714T090000
DTEND;TZID=America/Chicago:20250714T130000
LOCATION:
SUMMARY:Researching To Create Likable Character/s with Baptiste Paul
END:VEVENT
END:VCALENDAR
