BEGIN:VCALENDAR
VERSION:2.0
PRODID:-//oostburglibrary.org//NONSGML kigkonsult.se iCalcreator 2.30.10//
CALSCALE:GREGORIAN
METHOD:PUBLISH
UID:dccfc2e6-ed15-460d-87d6-7d955a778e75
X-WR-CALDESC:Join Mrs. Lori for stories\, songs\, and crafts at our Prescho
 ol Story Time! \n\nThis week's theme: Color Our World With Butterflies
X-WR-RELCALID:0d51e7855fe89b5a12eeb8df05a18115
X-WR-TIMEZONE:America/Chicago
BEGIN:VTIMEZONE
TZID:America/Chicago
BEGIN:STANDARD
TZNAME:CST
DTSTART:20241103T020000
TZOFFSETFROM:-0500
TZOFFSETTO:-0600
RDATE:20251102T020000
RDATE:20261101T020000
END:STANDARD
BEGIN:DAYLIGHT
TZNAME:CDT
DTSTART:20250309T020000
TZOFFSETFROM:-0600
TZOFFSETTO:-0500
RDATE:20260308T020000
END:DAYLIGHT
END:VTIMEZONE
BEGIN:VEVENT
UID:ffb80012-f7c9-4c72-afc7-2e02240be953
DTSTAMP:20260421T182819Z
DESCRIPTION:Join Mrs. Lori for stories\, songs\, and crafts at our Preschoo
 l Story Time! \n\nThis week's theme: Color Our World With Butterflies
DTSTART;TZID=America/Chicago:20250716T100000
DTEND;TZID=America/Chicago:20250716T110000
LOCATION:
SUMMARY:Story Time
END:VEVENT
END:VCALENDAR
