BEGIN:VCALENDAR
VERSION:2.0
PRODID:-//oostburglibrary.org//NONSGML kigkonsult.se iCalcreator 2.30.10//
CALSCALE:GREGORIAN
METHOD:PUBLISH
UID:e151294d-c8c4-4c26-8464-fb283c27d91d
X-WR-CALDESC:A Creative Writing Camp for grades 3-5\, taught by award-winni
 ng author Baptiste Paul!\n\nThis writing workshop is designed to get stude
 nts excited about writing and reading. In this workshop\, we will focus on
  writing a story based on our imagination. The goal is to create a memorab
 le character. In order to accomplish this goal\, students will explore uni
 que voices\, behaviors\, or unique lenses to name a few. Students will the
 n apply the skills they learn to edit their stories.\n\nRegistration is re
 quired\, and limited spots are available. Registration forms are available
  at the Oostburg Public Library.
X-WR-RELCALID:e342761fda9cfef49498606e773572b4
X-WR-TIMEZONE:America/Chicago
BEGIN:VTIMEZONE
TZID:America/Chicago
BEGIN:STANDARD
TZNAME:CST
DTSTART:20241103T020000
TZOFFSETFROM:-0500
TZOFFSETTO:-0600
RDATE:20251102T020000
RDATE:20261101T020000
END:STANDARD
BEGIN:DAYLIGHT
TZNAME:CDT
DTSTART:20250309T020000
TZOFFSETFROM:-0600
TZOFFSETTO:-0500
RDATE:20260308T020000
END:DAYLIGHT
END:VTIMEZONE
BEGIN:VEVENT
UID:2558662a-8ca3-4591-a595-bcd1426fc0a3
DTSTAMP:20260421T183203Z
DESCRIPTION:A Creative Writing Camp for grades 3-5\, taught by award-winnin
 g author Baptiste Paul!\n\nThis writing workshop is designed to get studen
 ts excited about writing and reading. In this workshop\, we will focus on 
 writing a story based on our imagination. The goal is to create a memorabl
 e character. In order to accomplish this goal\, students will explore uniq
 ue voices\, behaviors\, or unique lenses to name a few. Students will then
  apply the skills they learn to edit their stories.\n\nRegistration is req
 uired\, and limited spots are available. Registration forms are available 
 at the Oostburg Public Library.
DTSTART;TZID=America/Chicago:20250716T130000
DTEND;TZID=America/Chicago:20250716T160000
LOCATION:
SUMMARY:The Art of Writing a Story with Baptiste Paul
END:VEVENT
END:VCALENDAR
