BEGIN:VCALENDAR
VERSION:2.0
PRODID:-//oostburglibrary.org//NONSGML kigkonsult.se iCalcreator 2.30.10//
CALSCALE:GREGORIAN
METHOD:PUBLISH
UID:f29f24ec-3ea8-4ac2-a5ad-b35b528794ba
X-WR-CALDESC:Hang out and play with Legos at the Library!
X-WR-RELCALID:d54fca0a45f761d5188ca48be130144f
X-WR-TIMEZONE:America/Chicago
BEGIN:VTIMEZONE
TZID:America/Chicago
BEGIN:STANDARD
TZNAME:CST
DTSTART:20241103T020000
TZOFFSETFROM:-0500
TZOFFSETTO:-0600
RDATE:20251102T020000
RDATE:20261101T020000
END:STANDARD
BEGIN:DAYLIGHT
TZNAME:CDT
DTSTART:20250309T020000
TZOFFSETFROM:-0600
TZOFFSETTO:-0500
RDATE:20260308T020000
END:DAYLIGHT
END:VTIMEZONE
BEGIN:VEVENT
UID:aece9f3f-f1e6-46b7-9653-96c26ae51472
DTSTAMP:20260421T182344Z
DESCRIPTION:Hang out and play with Legos at the Library!
DTSTART;TZID=America/Chicago:20250716T130000
DTEND;TZID=America/Chicago:20250716T140000
LOCATION:
SUMMARY:SRP Elementary Readers: Lego Building Bash
END:VEVENT
END:VCALENDAR
