BEGIN:VCALENDAR
VERSION:2.0
PRODID:-//oostburglibrary.org//NONSGML kigkonsult.se iCalcreator 2.30.10//
CALSCALE:GREGORIAN
METHOD:PUBLISH
UID:78e99613-54d1-49e2-85b8-5178ee572663
X-WR-CALDESC:Work with a team to create a Lego Build that matches the given
  prompt!
X-WR-RELCALID:2f35ceb71cbcb3765b18bb75d7a09c48
X-WR-TIMEZONE:America/Chicago
BEGIN:VTIMEZONE
TZID:America/Chicago
BEGIN:STANDARD
TZNAME:CST
DTSTART:20241103T020000
TZOFFSETFROM:-0500
TZOFFSETTO:-0600
RDATE:20251102T020000
RDATE:20261101T020000
END:STANDARD
BEGIN:DAYLIGHT
TZNAME:CDT
DTSTART:20250309T020000
TZOFFSETFROM:-0600
TZOFFSETTO:-0500
RDATE:20260308T020000
END:DAYLIGHT
END:VTIMEZONE
BEGIN:VEVENT
UID:dac73a68-602a-4c91-bcb8-0dedacbfb473
DTSTAMP:20260421T183007Z
DESCRIPTION:Work with a team to create a Lego Build that matches the given 
 prompt!
DTSTART;TZID=America/Chicago:20250716T143000
DTEND;TZID=America/Chicago:20250716T153000
LOCATION:
SUMMARY:SRP Teens: Legends of Lego Challange
END:VEVENT
END:VCALENDAR
