BEGIN:VCALENDAR
VERSION:2.0
PRODID:-//oostburglibrary.org//NONSGML kigkonsult.se iCalcreator 2.30.10//
CALSCALE:GREGORIAN
METHOD:PUBLISH
UID:80f88b50-66c9-4e45-8c65-867a900cf1a3
X-WR-CALDESC:Join Mrs. Lori for stories\, songs\, and crafts at our Prescho
 ol Story Time! \n\nThis week's theme: Color Our World With Kindness
X-WR-RELCALID:e583631069283c38ee618e488309fcb0
X-WR-TIMEZONE:America/Chicago
BEGIN:VTIMEZONE
TZID:America/Chicago
BEGIN:STANDARD
TZNAME:CST
DTSTART:20241103T020000
TZOFFSETFROM:-0500
TZOFFSETTO:-0600
RDATE:20251102T020000
RDATE:20261101T020000
END:STANDARD
BEGIN:DAYLIGHT
TZNAME:CDT
DTSTART:20250309T020000
TZOFFSETFROM:-0600
TZOFFSETTO:-0500
RDATE:20260308T020000
END:DAYLIGHT
END:VTIMEZONE
BEGIN:VEVENT
UID:081f4b3b-0810-483e-8be1-7d018f330bab
DTSTAMP:20260421T182619Z
DESCRIPTION:Join Mrs. Lori for stories\, songs\, and crafts at our Preschoo
 l Story Time! \n\nThis week's theme: Color Our World With Kindness
DTSTART;TZID=America/Chicago:20250723T100000
DTEND;TZID=America/Chicago:20250723T110000
LOCATION:
SUMMARY:Story Time
END:VEVENT
END:VCALENDAR
