BEGIN:VCALENDAR
VERSION:2.0
PRODID:-//oostburglibrary.org//NONSGML kigkonsult.se iCalcreator 2.30.10//
CALSCALE:GREGORIAN
METHOD:PUBLISH
UID:e9704039-b6fd-40c7-bc3b-4759f4160970
X-WR-CALDESC:Part magic show\, part science show\, part juggling show\, par
 t STEM Education\, watch Rondini utilize his secret bubble formula to put 
 on and exciting show!\n\n
X-WR-RELCALID:245234dafab2d495a6a9b916b634e16a
X-WR-TIMEZONE:America/Chicago
BEGIN:VTIMEZONE
TZID:America/Chicago
BEGIN:STANDARD
TZNAME:CST
DTSTART:20241103T020000
TZOFFSETFROM:-0500
TZOFFSETTO:-0600
RDATE:20251102T020000
RDATE:20261101T020000
END:STANDARD
BEGIN:DAYLIGHT
TZNAME:CDT
DTSTART:20250309T020000
TZOFFSETFROM:-0600
TZOFFSETTO:-0500
RDATE:20260308T020000
END:DAYLIGHT
END:VTIMEZONE
BEGIN:VEVENT
UID:145862f3-9fa2-401b-9cb0-435216224505
DTSTAMP:20260421T182527Z
DESCRIPTION:Part magic show\, part science show\, part juggling show\, part
  STEM Education\, watch Rondini utilize his secret bubble formula to put o
 n and exciting show!\n\n
DTSTART;TZID=America/Chicago:20250723T130000
DTEND;TZID=America/Chicago:20250723T140000
LOCATION:
SUMMARY:SRP Elementary Readers: Rondini's Bombastic Bubble Show
END:VEVENT
END:VCALENDAR
