BEGIN:VCALENDAR
VERSION:2.0
PRODID:-//oostburglibrary.org//NONSGML kigkonsult.se iCalcreator 2.30.10//
CALSCALE:GREGORIAN
METHOD:PUBLISH
UID:bbe61184-147b-41dd-9791-017928fef560
X-WR-CALDESC:Join Mrs. Lori for stories\, songs\, and crafts at our Prescho
 ol Story Time! \n\nThis week's theme: Color Our World With Rainbows
X-WR-RELCALID:64bcc7da32d9c04ee7c77036dca3e027
X-WR-TIMEZONE:America/Chicago
BEGIN:VTIMEZONE
TZID:America/Chicago
BEGIN:STANDARD
TZNAME:CST
DTSTART:20241103T020000
TZOFFSETFROM:-0500
TZOFFSETTO:-0600
RDATE:20251102T020000
RDATE:20261101T020000
END:STANDARD
BEGIN:DAYLIGHT
TZNAME:CDT
DTSTART:20250309T020000
TZOFFSETFROM:-0600
TZOFFSETTO:-0500
RDATE:20260308T020000
END:DAYLIGHT
END:VTIMEZONE
BEGIN:VEVENT
UID:9e75874b-4efe-4192-99a4-4c8f2c7ef99f
DTSTAMP:20260421T182528Z
DESCRIPTION:Join Mrs. Lori for stories\, songs\, and crafts at our Preschoo
 l Story Time! \n\nThis week's theme: Color Our World With Rainbows
DTSTART;TZID=America/Chicago:20250730T100000
DTEND;TZID=America/Chicago:20250730T110000
LOCATION:
SUMMARY:Story Time
END:VEVENT
END:VCALENDAR
