BEGIN:VCALENDAR
VERSION:2.0
PRODID:-//oostburglibrary.org//NONSGML kigkonsult.se iCalcreator 2.30.10//
CALSCALE:GREGORIAN
METHOD:PUBLISH
UID:b9a41773-9ebb-4fa5-a6aa-00628cf08bd3
X-WR-CALDESC:Learn some line dances and party to wrap up this years Summer 
 Reading Program!
X-WR-RELCALID:56222de847c755bb7afe3979c181ca1a
X-WR-TIMEZONE:America/Chicago
BEGIN:VTIMEZONE
TZID:America/Chicago
BEGIN:STANDARD
TZNAME:CST
DTSTART:20241103T020000
TZOFFSETFROM:-0500
TZOFFSETTO:-0600
RDATE:20251102T020000
RDATE:20261101T020000
END:STANDARD
BEGIN:DAYLIGHT
TZNAME:CDT
DTSTART:20250309T020000
TZOFFSETFROM:-0600
TZOFFSETTO:-0500
RDATE:20260308T020000
END:DAYLIGHT
END:VTIMEZONE
BEGIN:VEVENT
UID:d100b375-8ce1-4b50-b945-1c7342ea37ec
DTSTAMP:20260421T182344Z
DESCRIPTION:Learn some line dances and party to wrap up this years Summer R
 eading Program!
DTSTART;TZID=America/Chicago:20250730T130000
DTEND;TZID=America/Chicago:20250730T140000
LOCATION:
SUMMARY:SRP Elementary Readers: Dance Party
END:VEVENT
END:VCALENDAR
