BEGIN:VCALENDAR
VERSION:2.0
PRODID:-//oostburglibrary.org//NONSGML kigkonsult.se iCalcreator 2.30.10//
CALSCALE:GREGORIAN
METHOD:PUBLISH
UID:4b6f49e0-dbe3-4350-8703-09c3e7106668
X-WR-CALDESC:Learn the basics of Ukulele playing so you can impress your fr
 iends and family around the campfire! Registration Required.
X-WR-RELCALID:60f20d47c963bd1a29786879a95045b1
X-WR-TIMEZONE:America/Chicago
BEGIN:VTIMEZONE
TZID:America/Chicago
BEGIN:STANDARD
TZNAME:CST
DTSTART:20241103T020000
TZOFFSETFROM:-0500
TZOFFSETTO:-0600
RDATE:20251102T020000
RDATE:20261101T020000
END:STANDARD
BEGIN:DAYLIGHT
TZNAME:CDT
DTSTART:20250309T020000
TZOFFSETFROM:-0600
TZOFFSETTO:-0500
RDATE:20260308T020000
END:DAYLIGHT
END:VTIMEZONE
BEGIN:VEVENT
UID:9bc9f1b6-7250-4b2f-a66f-f02857153202
DTSTAMP:20260421T182331Z
DESCRIPTION:Learn the basics of Ukulele playing so you can impress your fri
 ends and family around the campfire! Registration Required.
DTSTART;TZID=America/Chicago:20250730T143000
DTEND;TZID=America/Chicago:20250730T153000
LOCATION:
SUMMARY:SRP Teens: Ukulele Workshop
END:VEVENT
END:VCALENDAR
