BEGIN:VCALENDAR
VERSION:2.0
PRODID:-//oostburglibrary.org//NONSGML kigkonsult.se iCalcreator 2.30.10//
CALSCALE:GREGORIAN
METHOD:PUBLISH
UID:c1860129-ebe8-487c-b2ca-bd7aced79b37
X-WR-CALDESC:
X-WR-RELCALID:aa3833bd1b0551d075a7f22f08384687
X-WR-TIMEZONE:America/Chicago
BEGIN:VTIMEZONE
TZID:America/Chicago
BEGIN:STANDARD
TZNAME:CST
DTSTART:20241103T020000
TZOFFSETFROM:-0500
TZOFFSETTO:-0600
RDATE:20251102T020000
RDATE:20261101T020000
END:STANDARD
BEGIN:DAYLIGHT
TZNAME:CDT
DTSTART:20250309T020000
TZOFFSETFROM:-0600
TZOFFSETTO:-0500
RDATE:20260308T020000
END:DAYLIGHT
END:VTIMEZONE
BEGIN:VEVENT
UID:212a2d7c-b8b2-4164-ba18-d77f76dc5511
DTSTAMP:20260421T170451Z
DESCRIPTION:
DTSTART;TZID=America/Chicago:20250825T153000
DTEND;TZID=America/Chicago:20250825T170000
LOCATION:In the Community Room
SUMMARY:Library Board Meeting
END:VEVENT
END:VCALENDAR
