BEGIN:VCALENDAR
VERSION:2.0
PRODID:-//oostburglibrary.org//NONSGML kigkonsult.se iCalcreator 2.30.10//
CALSCALE:GREGORIAN
METHOD:PUBLISH
UID:cb391ce1-5c6d-4352-9648-8c0ba5d2220f
X-WR-CALDESC:
X-WR-RELCALID:f9db64c952bbab49107e49bcbff1a434
X-WR-TIMEZONE:America/Chicago
BEGIN:VTIMEZONE
TZID:America/Chicago
BEGIN:STANDARD
TZNAME:CST
DTSTART:20241103T020000
TZOFFSETFROM:-0500
TZOFFSETTO:-0600
RDATE:20251102T020000
RDATE:20261101T020000
END:STANDARD
BEGIN:DAYLIGHT
TZNAME:CDT
DTSTART:20250309T020000
TZOFFSETFROM:-0600
TZOFFSETTO:-0500
RDATE:20260308T020000
END:DAYLIGHT
END:VTIMEZONE
BEGIN:VEVENT
UID:23f46b34-f689-4664-b0e2-c5ff22ba1491
DTSTAMP:20260421T153355Z
DESCRIPTION:
DTSTART;TZID=America/Chicago:20250908T180000
DTEND;TZID=America/Chicago:20250908T190000
LOCATION:In the Community Room
SUMMARY:Friends of the Library Board Meeting
END:VEVENT
END:VCALENDAR
