BEGIN:VCALENDAR
VERSION:2.0
PRODID:-//oostburglibrary.org//NONSGML kigkonsult.se iCalcreator 2.30.10//
CALSCALE:GREGORIAN
METHOD:PUBLISH
UID:df378ab9-e3d7-4adf-8382-bb093e6c8f42
X-WR-CALDESC:
X-WR-RELCALID:e57c04b6c741a9f1fbe8ac836235af62
X-WR-TIMEZONE:America/Belize
BEGIN:VTIMEZONE
TZID:America/Belize
BEGIN:STANDARD
TZNAME:CST
DTSTART:20231210T060000
TZOFFSETFROM:+0000
TZOFFSETTO:-0600
END:STANDARD
END:VTIMEZONE
BEGIN:VEVENT
UID:94669958-a805-4f37-a958-b5b68f61cfbc
DTSTAMP:20260421T160353Z
DESCRIPTION:
DTSTART;TZID=America/Belize:20250910T100000
DTEND;TZID=America/Belize:20250910T110000
LOCATION:213 North 8th st\, oostburg Wi\, AL 53070 US
SUMMARY:Preschool Story Time
END:VEVENT
END:VCALENDAR
