BEGIN:VCALENDAR
VERSION:2.0
PRODID:-//oostburglibrary.org//NONSGML kigkonsult.se iCalcreator 2.30.10//
CALSCALE:GREGORIAN
METHOD:PUBLISH
UID:86899870-0be7-4d8a-863f-f94939d0dc54
X-WR-CALDESC:
X-WR-RELCALID:4a3e914b3c9a7bc855acabec8568e484
X-WR-TIMEZONE:America/Belize
BEGIN:VTIMEZONE
TZID:America/Belize
BEGIN:STANDARD
TZNAME:CST
DTSTART:20231217T060000
TZOFFSETFROM:+0000
TZOFFSETTO:-0600
END:STANDARD
END:VTIMEZONE
BEGIN:VEVENT
UID:4e31f175-d445-4322-83b8-515a47085c56
DTSTAMP:20260421T155545Z
DESCRIPTION:
DTSTART;TZID=America/Belize:20250917T100000
DTEND;TZID=America/Belize:20250917T110000
LOCATION:213 North 8th st\, oostburg Wi\, AL 53070 US
SUMMARY:Preschool Story Time
END:VEVENT
END:VCALENDAR
