BEGIN:VCALENDAR
VERSION:2.0
PRODID:-//oostburglibrary.org//NONSGML kigkonsult.se iCalcreator 2.30.10//
CALSCALE:GREGORIAN
METHOD:PUBLISH
UID:138426c6-2dec-47ff-823f-4f2c8c6fbd5a
X-WR-CALDESC:Monthly Mystery Book Club led by Jesse.\n\nThis Month's Book i
 s:
X-WR-RELCALID:38fee4872d15ed1b4e923dee0f9d7eec
X-WR-TIMEZONE:America/Chicago
BEGIN:VTIMEZONE
TZID:America/Chicago
BEGIN:STANDARD
TZNAME:CST
DTSTART:20241103T020000
TZOFFSETFROM:-0500
TZOFFSETTO:-0600
RDATE:20251102T020000
RDATE:20261101T020000
END:STANDARD
BEGIN:DAYLIGHT
TZNAME:CDT
DTSTART:20250309T020000
TZOFFSETFROM:-0600
TZOFFSETTO:-0500
RDATE:20260308T020000
RDATE:20270314T020000
END:DAYLIGHT
END:VTIMEZONE
BEGIN:VEVENT
UID:cb85e792-2064-4821-b062-cded92e9cbd6
DTSTAMP:20260421T153619Z
DESCRIPTION:Monthly Mystery Book Club led by Jesse.\n\nThis Month's Book is
 :
DTSTART;TZID=America/Chicago:20250918T140000
DTEND;TZID=America/Chicago:20250918T150000
LOCATION:
SUMMARY:Mystery Book Club
END:VEVENT
END:VCALENDAR
