BEGIN:VCALENDAR
VERSION:2.0
PRODID:-//oostburglibrary.org//NONSGML kigkonsult.se iCalcreator 2.30.10//
CALSCALE:GREGORIAN
METHOD:PUBLISH
UID:49e7b799-b1fd-43ca-b758-d2d32b8c9039
X-WR-CALDESC:
X-WR-RELCALID:8341fe21cc968b64b3db7cf18dc133f0
X-WR-TIMEZONE:America/Chicago
BEGIN:VTIMEZONE
TZID:America/Chicago
BEGIN:STANDARD
TZNAME:CST
DTSTART:20241103T020000
TZOFFSETFROM:-0500
TZOFFSETTO:-0600
RDATE:20251102T020000
RDATE:20261101T020000
END:STANDARD
BEGIN:DAYLIGHT
TZNAME:CDT
DTSTART:20250309T020000
TZOFFSETFROM:-0600
TZOFFSETTO:-0500
RDATE:20260308T020000
RDATE:20270314T020000
END:DAYLIGHT
END:VTIMEZONE
BEGIN:VEVENT
UID:09d9a176-6099-4b9e-8d2a-6f8f4318c159
DTSTAMP:20260421T154446Z
DESCRIPTION:
DTSTART;TZID=America/Chicago:20250922T153000
DTEND;TZID=America/Chicago:20250922T170000
LOCATION:In the Community Room
SUMMARY:Library Board Meeting
END:VEVENT
END:VCALENDAR
