BEGIN:VCALENDAR
VERSION:2.0
PRODID:-//oostburglibrary.org//NONSGML kigkonsult.se iCalcreator 2.30.10//
CALSCALE:GREGORIAN
METHOD:PUBLISH
UID:775ab965-da81-4623-b4fa-f5284ab2a3ff
X-WR-CALDESC:
X-WR-RELCALID:d2406eef4024ed720d47a93bc478aaca
X-WR-TIMEZONE:America/Belize
BEGIN:VTIMEZONE
TZID:America/Belize
BEGIN:STANDARD
TZNAME:CST
DTSTART:20231224T060000
TZOFFSETFROM:+0000
TZOFFSETTO:-0600
END:STANDARD
END:VTIMEZONE
BEGIN:VEVENT
UID:c7764759-e280-4b68-bf5f-22b6de85fab3
DTSTAMP:20260421T154145Z
DESCRIPTION:
DTSTART;TZID=America/Belize:20250924T100000
DTEND;TZID=America/Belize:20250924T110000
LOCATION:213 North 8th st\, oostburg Wi\, AL 53070 US
SUMMARY:Preschool Story Time
END:VEVENT
END:VCALENDAR
