BEGIN:VCALENDAR
VERSION:2.0
PRODID:-//oostburglibrary.org//NONSGML kigkonsult.se iCalcreator 2.30.10//
CALSCALE:GREGORIAN
METHOD:PUBLISH
UID:a356ee1b-c5df-4e13-8a93-2a317550ccbc
X-WR-CALDESC:
X-WR-RELCALID:ca2f74999b5b3fcb296ead846002b188
X-WR-TIMEZONE:America/Belize
BEGIN:VTIMEZONE
TZID:America/Belize
BEGIN:STANDARD
TZNAME:CST
DTSTART:20231231T060000
TZOFFSETFROM:+0000
TZOFFSETTO:-0600
END:STANDARD
END:VTIMEZONE
BEGIN:VEVENT
UID:25aeaab6-cef7-4206-b6ee-99b07fad9e3c
DTSTAMP:20260421T141640Z
DESCRIPTION:
DTSTART;TZID=America/Belize:20251001T100000
DTEND;TZID=America/Belize:20251001T110000
LOCATION:213 North 8th st\, oostburg Wi\, AL 53070 US
SUMMARY:Preschool Story Time
END:VEVENT
END:VCALENDAR
