BEGIN:VCALENDAR
VERSION:2.0
PRODID:-//oostburglibrary.org//NONSGML kigkonsult.se iCalcreator 2.30.10//
CALSCALE:GREGORIAN
METHOD:PUBLISH
UID:e8f310ad-35ce-43a3-9136-e33692800019
X-WR-CALDESC:
X-WR-RELCALID:7aa5f5c8949a48264d9138cb12bba5d8
X-WR-TIMEZONE:America/Belize
BEGIN:VTIMEZONE
TZID:America/Belize
BEGIN:STANDARD
TZNAME:CST
DTSTART:20240107T060000
TZOFFSETFROM:+0000
TZOFFSETTO:-0600
END:STANDARD
END:VTIMEZONE
BEGIN:VEVENT
UID:ed55bc0b-3159-4285-8640-ab66e240abe1
DTSTAMP:20260421T141516Z
DESCRIPTION:
DTSTART;TZID=America/Belize:20251008T100000
DTEND;TZID=America/Belize:20251008T110000
LOCATION:213 North 8th st\, oostburg Wi\, AL 53070 US
SUMMARY:Preschool Story Time
END:VEVENT
END:VCALENDAR
