BEGIN:VCALENDAR
VERSION:2.0
PRODID:-//oostburglibrary.org//NONSGML kigkonsult.se iCalcreator 2.30.10//
CALSCALE:GREGORIAN
METHOD:PUBLISH
UID:83c72a85-0829-4ede-820d-85159c8bd90e
X-WR-CALDESC:
X-WR-RELCALID:79214f469bb7e38113a3a01bfe8c81ef
X-WR-TIMEZONE:America/Belize
BEGIN:VTIMEZONE
TZID:America/Belize
BEGIN:STANDARD
TZNAME:CST
DTSTART:20240114T060000
TZOFFSETFROM:+0000
TZOFFSETTO:-0600
END:STANDARD
END:VTIMEZONE
BEGIN:VEVENT
UID:cb243875-5311-483c-99a5-ce477ecb09e8
DTSTAMP:20260421T141743Z
DESCRIPTION:
DTSTART;TZID=America/Belize:20251015T100000
DTEND;TZID=America/Belize:20251015T110000
LOCATION:213 North 8th st\, oostburg Wi\, AL 53070 US
SUMMARY:Preschool Story Time
END:VEVENT
END:VCALENDAR
