BEGIN:VCALENDAR
VERSION:2.0
PRODID:-//oostburglibrary.org//NONSGML kigkonsult.se iCalcreator 2.30.10//
CALSCALE:GREGORIAN
METHOD:PUBLISH
UID:38459de2-e933-4aaa-abd3-80ccf3483b35
X-WR-CALDESC:Monthly Mystery Book Club led by Jesse.\n\nThis Month's Book i
 s:
X-WR-RELCALID:2ccc377c6a870521e73cd1b165513a1b
X-WR-TIMEZONE:America/Chicago
BEGIN:VTIMEZONE
TZID:America/Chicago
BEGIN:STANDARD
TZNAME:CST
DTSTART:20241103T020000
TZOFFSETFROM:-0500
TZOFFSETTO:-0600
RDATE:20251102T020000
RDATE:20261101T020000
END:STANDARD
BEGIN:DAYLIGHT
TZNAME:CDT
DTSTART:20250309T020000
TZOFFSETFROM:-0600
TZOFFSETTO:-0500
RDATE:20260308T020000
RDATE:20270314T020000
END:DAYLIGHT
END:VTIMEZONE
BEGIN:VEVENT
UID:fe752367-ac4a-4add-953e-5f66caa76ec1
DTSTAMP:20260421T141508Z
DESCRIPTION:Monthly Mystery Book Club led by Jesse.\n\nThis Month's Book is
 :
DTSTART;TZID=America/Chicago:20251016T140000
DTEND;TZID=America/Chicago:20251016T150000
LOCATION:
SUMMARY:Mystery Book Club
END:VEVENT
END:VCALENDAR
