BEGIN:VCALENDAR
VERSION:2.0
PRODID:-//oostburglibrary.org//NONSGML kigkonsult.se iCalcreator 2.30.10//
CALSCALE:GREGORIAN
METHOD:PUBLISH
UID:32bb301c-ce86-4567-a57f-a6205b6bec69
X-WR-CALDESC:
X-WR-RELCALID:187adead6bfdd11b5c9f8b7f68250659
X-WR-TIMEZONE:America/Chicago
BEGIN:VTIMEZONE
TZID:America/Chicago
BEGIN:STANDARD
TZNAME:CST
DTSTART:20241103T020000
TZOFFSETFROM:-0500
TZOFFSETTO:-0600
RDATE:20251102T020000
RDATE:20261101T020000
END:STANDARD
BEGIN:DAYLIGHT
TZNAME:CDT
DTSTART:20250309T020000
TZOFFSETFROM:-0600
TZOFFSETTO:-0500
RDATE:20260308T020000
RDATE:20270314T020000
END:DAYLIGHT
END:VTIMEZONE
BEGIN:VEVENT
UID:f365a582-055e-4503-969a-03367d1b3fa7
DTSTAMP:20260421T142348Z
DESCRIPTION:
DTSTART;TZID=America/Chicago:20251021T183000
DTEND;TZID=America/Chicago:20251021T193000
LOCATION:213 North 8th st\, oostburg Wi\, AL 53070 US
SUMMARY:3rd Tuesday Book Club
END:VEVENT
END:VCALENDAR
