BEGIN:VCALENDAR
VERSION:2.0
PRODID:-//oostburglibrary.org//NONSGML kigkonsult.se iCalcreator 2.30.10//
CALSCALE:GREGORIAN
METHOD:PUBLISH
UID:e1952e20-7e5b-4de1-a01f-9e46f46edcfd
X-WR-CALDESC:
X-WR-RELCALID:7d7e6ffaa7b1bfda1145940178d92f73
X-WR-TIMEZONE:America/Belize
BEGIN:VTIMEZONE
TZID:America/Belize
BEGIN:STANDARD
TZNAME:CST
DTSTART:20240121T060000
TZOFFSETFROM:+0000
TZOFFSETTO:-0600
END:STANDARD
END:VTIMEZONE
BEGIN:VEVENT
UID:8262e5bf-557b-45d3-b7d9-119a751d133a
DTSTAMP:20260421T142134Z
DESCRIPTION:
DTSTART;TZID=America/Belize:20251022T100000
DTEND;TZID=America/Belize:20251022T110000
LOCATION:213 North 8th st\, oostburg Wi\, AL 53070 US
SUMMARY:Preschool Story Time
END:VEVENT
END:VCALENDAR
