BEGIN:VCALENDAR
VERSION:2.0
PRODID:-//oostburglibrary.org//NONSGML kigkonsult.se iCalcreator 2.30.10//
CALSCALE:GREGORIAN
METHOD:PUBLISH
UID:4d4487c7-8206-4a1e-81c0-6ebfc11a0c32
X-WR-CALDESC:
X-WR-RELCALID:ab74ca305878bc2ce65ef4601ac49922
X-WR-TIMEZONE:America/Chicago
BEGIN:VTIMEZONE
TZID:America/Chicago
BEGIN:STANDARD
TZNAME:CST
DTSTART:20241103T020000
TZOFFSETFROM:-0500
TZOFFSETTO:-0600
RDATE:20251102T020000
RDATE:20261101T020000
END:STANDARD
BEGIN:DAYLIGHT
TZNAME:CDT
DTSTART:20250309T020000
TZOFFSETFROM:-0600
TZOFFSETTO:-0500
RDATE:20260308T020000
RDATE:20270314T020000
END:DAYLIGHT
END:VTIMEZONE
BEGIN:VEVENT
UID:1197d4fa-0950-41ff-a183-6a7c80623b3a
DTSTAMP:20260421T141234Z
DESCRIPTION:
DTSTART;TZID=America/Chicago:20251027T153000
DTEND;TZID=America/Chicago:20251027T170000
LOCATION:In the Community Room
SUMMARY:Library Board Meeting
END:VEVENT
END:VCALENDAR
