BEGIN:VCALENDAR
VERSION:2.0
PRODID:-//oostburglibrary.org//NONSGML kigkonsult.se iCalcreator 2.30.10//
CALSCALE:GREGORIAN
METHOD:PUBLISH
UID:e95ced59-eb32-47b8-b8b3-112394f28760
X-WR-CALDESC:
X-WR-RELCALID:4ee66c62fe06a6a712ed8350fe08d811
X-WR-TIMEZONE:America/Belize
BEGIN:VTIMEZONE
TZID:America/Belize
BEGIN:STANDARD
TZNAME:CST
DTSTART:20240128T060000
TZOFFSETFROM:+0000
TZOFFSETTO:-0600
END:STANDARD
END:VTIMEZONE
BEGIN:VEVENT
UID:df459fe3-a7d8-4b4a-9c84-2be8daedda04
DTSTAMP:20260421T141813Z
DESCRIPTION:
DTSTART;TZID=America/Belize:20251029T100000
DTEND;TZID=America/Belize:20251029T110000
LOCATION:213 North 8th st\, oostburg Wi\, AL 53070 US
SUMMARY:Preschool Story Time
END:VEVENT
END:VCALENDAR
