BEGIN:VCALENDAR
VERSION:2.0
PRODID:-//oostburglibrary.org//NONSGML kigkonsult.se iCalcreator 2.30.10//
CALSCALE:GREGORIAN
METHOD:PUBLISH
UID:56093f88-d688-41bc-a421-70e44a0aff35
X-WR-CALDESC:
X-WR-RELCALID:fd525f9a8ab4fa3f0ca756ae73a6574c
X-WR-TIMEZONE:America/Belize
BEGIN:VTIMEZONE
TZID:America/Belize
BEGIN:STANDARD
TZNAME:CST
DTSTART:20240204T060000
TZOFFSETFROM:+0000
TZOFFSETTO:-0600
END:STANDARD
END:VTIMEZONE
BEGIN:VEVENT
UID:c5337f30-4393-4a5e-adc8-324b3142dc49
DTSTAMP:20260421T124017Z
DESCRIPTION:
DTSTART;TZID=America/Belize:20251105T100000
DTEND;TZID=America/Belize:20251105T110000
LOCATION:213 North 8th st\, oostburg Wi\, AL 53070 US
SUMMARY:Preschool Story Time
END:VEVENT
END:VCALENDAR
