BEGIN:VCALENDAR
VERSION:2.0
PRODID:-//oostburglibrary.org//NONSGML kigkonsult.se iCalcreator 2.30.10//
CALSCALE:GREGORIAN
METHOD:PUBLISH
UID:90314640-60e5-4b3c-9dfb-145045413aaa
X-WR-CALDESC:
X-WR-RELCALID:4dfb717c4587adf45b67d1aba8d09e4f
X-WR-TIMEZONE:America/Chicago
BEGIN:VTIMEZONE
TZID:America/Chicago
BEGIN:STANDARD
TZNAME:CST
DTSTART:20251102T020000
TZOFFSETFROM:-0500
TZOFFSETTO:-0600
RDATE:20261101T020000
END:STANDARD
BEGIN:DAYLIGHT
TZNAME:CDT
DTSTART:20250309T020000
TZOFFSETFROM:-0600
TZOFFSETTO:-0500
RDATE:20260308T020000
RDATE:20270314T020000
END:DAYLIGHT
END:VTIMEZONE
BEGIN:VEVENT
UID:a2c58c1a-1e6f-4171-9c39-e827f0a50053
DTSTAMP:20260421T122925Z
DESCRIPTION:
DTSTART;TZID=America/Chicago:20251110T180000
DTEND;TZID=America/Chicago:20251110T190000
LOCATION:In the Community Room
SUMMARY:Friends of the Library Board Meeting
END:VEVENT
END:VCALENDAR
