BEGIN:VCALENDAR
VERSION:2.0
PRODID:-//oostburglibrary.org//NONSGML kigkonsult.se iCalcreator 2.30.10//
CALSCALE:GREGORIAN
METHOD:PUBLISH
UID:6f6177f0-880f-48e8-a8d4-1913dfbfa5cd
X-WR-CALDESC:
X-WR-RELCALID:1062c36a7e95b7f7f773eddc6ff17c19
X-WR-TIMEZONE:America/Belize
BEGIN:VTIMEZONE
TZID:America/Belize
BEGIN:STANDARD
TZNAME:CST
DTSTART:20240211T060000
TZOFFSETFROM:+0000
TZOFFSETTO:-0600
END:STANDARD
END:VTIMEZONE
BEGIN:VEVENT
UID:66747d02-a557-4fbd-a852-74b581cb025b
DTSTAMP:20260421T123429Z
DESCRIPTION:
DTSTART;TZID=America/Belize:20251112T100000
DTEND;TZID=America/Belize:20251112T110000
LOCATION:213 North 8th st\, oostburg Wi\, AL 53070 US
SUMMARY:Preschool Story Time
END:VEVENT
END:VCALENDAR
