BEGIN:VCALENDAR
VERSION:2.0
PRODID:-//oostburglibrary.org//NONSGML kigkonsult.se iCalcreator 2.30.10//
CALSCALE:GREGORIAN
METHOD:PUBLISH
UID:ce7cf632-34f5-4b04-8cf6-d43651f5e9ff
X-WR-CALDESC:
X-WR-RELCALID:b6cb94fcaf571d4eb9561e18390c77fd
X-WR-TIMEZONE:America/Chicago
BEGIN:VTIMEZONE
TZID:America/Chicago
BEGIN:STANDARD
TZNAME:CST
DTSTART:20251102T020000
TZOFFSETFROM:-0500
TZOFFSETTO:-0600
RDATE:20261101T020000
END:STANDARD
BEGIN:DAYLIGHT
TZNAME:CDT
DTSTART:20250309T020000
TZOFFSETFROM:-0600
TZOFFSETTO:-0500
RDATE:20260308T020000
RDATE:20270314T020000
END:DAYLIGHT
END:VTIMEZONE
BEGIN:VEVENT
UID:557edfed-56a6-4823-94ee-1f41546807de
DTSTAMP:20260421T123819Z
DESCRIPTION:
DTSTART;TZID=America/Chicago:20251118T183000
DTEND;TZID=America/Chicago:20251118T193000
LOCATION:213 North 8th st\, Oostburg\, WI 53070 US
SUMMARY:3rd Tuesday Book Club
END:VEVENT
END:VCALENDAR
