BEGIN:VCALENDAR
VERSION:2.0
PRODID:-//oostburglibrary.org//NONSGML kigkonsult.se iCalcreator 2.30.10//
CALSCALE:GREGORIAN
METHOD:PUBLISH
UID:66baf84a-a077-4749-808f-4c9b27c3050e
X-WR-CALDESC:
X-WR-RELCALID:ac4f835d95657c4ca4397a8177a16bb6
X-WR-TIMEZONE:America/Belize
BEGIN:VTIMEZONE
TZID:America/Belize
BEGIN:STANDARD
TZNAME:CST
DTSTART:20240218T060000
TZOFFSETFROM:+0000
TZOFFSETTO:-0600
END:STANDARD
END:VTIMEZONE
BEGIN:VEVENT
UID:d1e6722d-cc60-426a-aef9-85bb26184933
DTSTAMP:20260421T124017Z
DESCRIPTION:
DTSTART;TZID=America/Belize:20251119T100000
DTEND;TZID=America/Belize:20251119T110000
LOCATION:213 North 8th st\, oostburg Wi\, AL 53070 US
SUMMARY:Preschool Story Time
END:VEVENT
END:VCALENDAR
