BEGIN:VCALENDAR
VERSION:2.0
PRODID:-//oostburglibrary.org//NONSGML kigkonsult.se iCalcreator 2.30.10//
CALSCALE:GREGORIAN
METHOD:PUBLISH
UID:700e02b2-7835-4984-a6c6-fe5dc5a14a44
X-WR-CALDESC:
X-WR-RELCALID:39eb9f4b7f4ddcfb7071743cc819e403
X-WR-TIMEZONE:America/Belize
BEGIN:VTIMEZONE
TZID:America/Belize
BEGIN:STANDARD
TZNAME:CST
DTSTART:20240303T060000
TZOFFSETFROM:+0000
TZOFFSETTO:-0600
END:STANDARD
END:VTIMEZONE
BEGIN:VEVENT
UID:6a5742f4-8241-4db6-96d9-2fd6f0052c05
DTSTAMP:20260421T112011Z
DESCRIPTION:
DTSTART;TZID=America/Belize:20251203T100000
DTEND;TZID=America/Belize:20251203T110000
LOCATION:213 North 8th St\, Oostburg\, WI 53070 US
SUMMARY:Preschool Story Time
END:VEVENT
END:VCALENDAR
