BEGIN:VCALENDAR
VERSION:2.0
PRODID:-//oostburglibrary.org//NONSGML kigkonsult.se iCalcreator 2.30.10//
CALSCALE:GREGORIAN
METHOD:PUBLISH
UID:9105a5d0-d0f5-4a1b-945e-c5f3ab4ee47b
X-WR-CALDESC:
X-WR-RELCALID:10a9d7b6367a03974a8d091cafbd3129
X-WR-TIMEZONE:America/Chicago
BEGIN:VTIMEZONE
TZID:America/Chicago
BEGIN:STANDARD
TZNAME:CST
DTSTART:20251102T020000
TZOFFSETFROM:-0500
TZOFFSETTO:-0600
RDATE:20261101T020000
END:STANDARD
BEGIN:DAYLIGHT
TZNAME:CDT
DTSTART:20250309T020000
TZOFFSETFROM:-0600
TZOFFSETTO:-0500
RDATE:20260308T020000
RDATE:20270314T020000
END:DAYLIGHT
END:VTIMEZONE
BEGIN:VEVENT
UID:90e380cf-8a56-4326-9d0d-13b76298c189
DTSTAMP:20260421T112135Z
DESCRIPTION:
DTSTART;TZID=America/Chicago:20251208T180000
DTEND;TZID=America/Chicago:20251208T190000
LOCATION:In the Community Room
SUMMARY:Friends of the Library Board Meeting
END:VEVENT
END:VCALENDAR
