BEGIN:VCALENDAR
VERSION:2.0
PRODID:-//oostburglibrary.org//NONSGML kigkonsult.se iCalcreator 2.30.10//
CALSCALE:GREGORIAN
METHOD:PUBLISH
UID:2ef4b47c-a72c-4b77-9ee1-fadcbb76ff37
X-WR-CALDESC:
X-WR-RELCALID:46b907a276551c8d01c1c1956acaf98f
X-WR-TIMEZONE:America/Belize
BEGIN:VTIMEZONE
TZID:America/Belize
BEGIN:STANDARD
TZNAME:CST
DTSTART:20240310T060000
TZOFFSETFROM:+0000
TZOFFSETTO:-0600
END:STANDARD
END:VTIMEZONE
BEGIN:VEVENT
UID:a9bcaddf-6cca-4124-a616-22b6fef875dc
DTSTAMP:20260421T111625Z
DESCRIPTION:
DTSTART;TZID=America/Belize:20251210T100000
DTEND;TZID=America/Belize:20251210T110000
LOCATION:213 North 8th St\, Oostburg\, WI 53070 US
SUMMARY:Preschool Story Time
END:VEVENT
END:VCALENDAR
