BEGIN:VCALENDAR
VERSION:2.0
PRODID:-//oostburglibrary.org//NONSGML kigkonsult.se iCalcreator 2.30.10//
CALSCALE:GREGORIAN
METHOD:PUBLISH
UID:659d8266-f241-4955-8a78-f629d4b5303d
X-WR-CALDESC:Join us to make DIY Holiday Teacup Vignettes\n\nRegistration i
 s required. Spots are limited! Call or stop in to register\nAdults (18+) o
 nly\n\nSponsored by the Friends of the Oostburg Public Library
X-WR-RELCALID:bf7f1022c8dc5418e96f89f0e68a542b
X-WR-TIMEZONE:America/Chicago
BEGIN:VTIMEZONE
TZID:America/Chicago
BEGIN:STANDARD
TZNAME:CST
DTSTART:20251102T020000
TZOFFSETFROM:-0500
TZOFFSETTO:-0600
RDATE:20261101T020000
END:STANDARD
BEGIN:DAYLIGHT
TZNAME:CDT
DTSTART:20250309T020000
TZOFFSETFROM:-0600
TZOFFSETTO:-0500
RDATE:20260308T020000
RDATE:20270314T020000
END:DAYLIGHT
END:VTIMEZONE
BEGIN:VEVENT
UID:269ca496-c082-41fd-891f-7183d3c4a3eb
DTSTAMP:20260421T111824Z
DESCRIPTION:Join us to make DIY Holiday Teacup Vignettes\n\nRegistration is
  required. Spots are limited! Call or stop in to register\nAdults (18+) on
 ly\n\nSponsored by the Friends of the Oostburg Public Library
DTSTART;TZID=America/Chicago:20251213T100000
DTEND;TZID=America/Chicago:20251213T120000
LOCATION:213 North 8th St\, Oostburg\, Wisconsin 53070\, Oostburg\, WI 5307
 0 US
SUMMARY:Procraftinators
END:VEVENT
END:VCALENDAR
