BEGIN:VCALENDAR
VERSION:2.0
PRODID:-//oostburglibrary.org//NONSGML kigkonsult.se iCalcreator 2.30.10//
CALSCALE:GREGORIAN
METHOD:PUBLISH
UID:8a56adc8-19dd-428f-8da5-9761e2d7903f
X-WR-CALDESC:This Month's Book is:\nThe Jackal's Mistress by Chris Bohjalia
 n\n\nCopies are available to pick up at the Oostburg Public Library
X-WR-RELCALID:2e6e98ce3372b89d5130c069efed2297
X-WR-TIMEZONE:America/Chicago
BEGIN:VTIMEZONE
TZID:America/Chicago
BEGIN:STANDARD
TZNAME:CST
DTSTART:20251102T020000
TZOFFSETFROM:-0500
TZOFFSETTO:-0600
RDATE:20261101T020000
END:STANDARD
BEGIN:DAYLIGHT
TZNAME:CDT
DTSTART:20250309T020000
TZOFFSETFROM:-0600
TZOFFSETTO:-0500
RDATE:20260308T020000
RDATE:20270314T020000
END:DAYLIGHT
END:VTIMEZONE
BEGIN:VEVENT
UID:a7c7cb78-44a3-44e4-a508-232f5e0424f2
DTSTAMP:20260421T111646Z
DESCRIPTION:This Month's Book is:\nThe Jackal's Mistress by Chris Bohjalian
 \n\nCopies are available to pick up at the Oostburg Public Library
DTSTART;TZID=America/Chicago:20251216T183000
DTEND;TZID=America/Chicago:20251216T193000
LOCATION:213 North 8th St\, Oostburg\, WI 53070 US
SUMMARY:3rd Tuesday Book Club
END:VEVENT
END:VCALENDAR
