BEGIN:VCALENDAR
VERSION:2.0
PRODID:-//oostburglibrary.org//NONSGML kigkonsult.se iCalcreator 2.30.10//
CALSCALE:GREGORIAN
METHOD:PUBLISH
UID:6c7afe7e-2331-4a28-9c29-6f351a8c9fff
X-WR-CALDESC:
X-WR-RELCALID:cdf2470808b41620b72c001f00f940e2
X-WR-TIMEZONE:America/Belize
BEGIN:VTIMEZONE
TZID:America/Belize
BEGIN:STANDARD
TZNAME:CST
DTSTART:20240317T060000
TZOFFSETFROM:+0000
TZOFFSETTO:-0600
END:STANDARD
END:VTIMEZONE
BEGIN:VEVENT
UID:fa40eec1-23af-45e4-9c3a-e58dc4bab9e5
DTSTAMP:20260423T094505Z
DESCRIPTION:
DTSTART;TZID=America/Belize:20251217T100000
DTEND;TZID=America/Belize:20251217T110000
LOCATION:213 North 8th St\, Oostburg\, WI 53070 US
SUMMARY:Preschool Story Time
END:VEVENT
END:VCALENDAR
