BEGIN:VCALENDAR
VERSION:2.0
PRODID:-//oostburglibrary.org//NONSGML kigkonsult.se iCalcreator 2.30.10//
CALSCALE:GREGORIAN
METHOD:PUBLISH
UID:8601ba79-bf1d-4f81-a4a4-afa163f11993
X-WR-CALDESC:Monthly Mystery Book Club led by Vicki.\n\nThis Month's Book i
 s: The Most Wonderful Crime of the Year by Ally Carter
X-WR-RELCALID:01a7f8110a8a34202079d32a5f619237
X-WR-TIMEZONE:America/Chicago
BEGIN:VTIMEZONE
TZID:America/Chicago
BEGIN:STANDARD
TZNAME:CST
DTSTART:20251102T020000
TZOFFSETFROM:-0500
TZOFFSETTO:-0600
RDATE:20261101T020000
END:STANDARD
BEGIN:DAYLIGHT
TZNAME:CDT
DTSTART:20250309T020000
TZOFFSETFROM:-0600
TZOFFSETTO:-0500
RDATE:20260308T020000
RDATE:20270314T020000
END:DAYLIGHT
END:VTIMEZONE
BEGIN:VEVENT
UID:ace91e0d-4de6-4fc6-9696-0785e11f0e96
DTSTAMP:20260421T111625Z
DESCRIPTION:Monthly Mystery Book Club led by Vicki.\n\nThis Month's Book is
 : The Most Wonderful Crime of the Year by Ally Carter
DTSTART;TZID=America/Chicago:20251218T140000
DTEND;TZID=America/Chicago:20251218T150000
LOCATION:
SUMMARY:Mystery Book Club
END:VEVENT
END:VCALENDAR
